BEGIN:VCALENDAR
VERSION:2.0
PRODID:-//Trelleborgs BTK//NONSGML kigkonsult.se iCalcreator 2.30.10//
CALSCALE:GREGORIAN
METHOD:PUBLISH
UID:a857b2bf-e8fa-478d-b440-f9ccebc19430
X-WR-CALNAME:iCagenda
X-WR-CALDESC:Event Management Extension for Joomla!
X-WR-RELCALID:3E26604A-50F4-4449-8B3E-E4F4932D05B5
X-WR-TIMEZONE:UTC
BEGIN:VTIMEZONE
TZID:UTC
END:VTIMEZONE
BEGIN:VEVENT
UID:4ccc343d-5e78-4617-838a-5ef2f203bd49
DTSTAMP:20260421T093109Z
CATEGORIES:Div 2 herrar SSS
CLASS:PUBLIC
DESCRIPTION:
DTSTART:20260314T110000Z
DTEND:20260314T110000Z
GEO:+55.386692;+13.156636
LOCATION:Söderslättshallen
ORGANIZER:
SEQUENCE:1
SUMMARY:Trelleborgs BTK -	Lyckeby BTK: B
TRANSP:OPAQUE
URL:http://www.trelleborgsbtk.se/index.php/innehall/kalender-seriespel/25-t
 relleborgs-btk-lyckeby-btk-b/2026-03-14-11-00
END:VEVENT
END:VCALENDAR
