BEGIN:VCALENDAR
VERSION:2.0
PRODID:-//Trelleborgs BTK//NONSGML kigkonsult.se iCalcreator 2.30.10//
CALSCALE:GREGORIAN
METHOD:PUBLISH
UID:ebf87319-fbe0-4c1d-88c7-36a80cb52af8
X-WR-CALNAME:iCagenda
X-WR-CALDESC:Event Management Extension for Joomla!
X-WR-RELCALID:3E26604A-50F4-4449-8B3E-E4F4932D05B5
X-WR-TIMEZONE:UTC
BEGIN:VTIMEZONE
TZID:UTC
END:VTIMEZONE
BEGIN:VEVENT
UID:6ee218c8-0d9c-4e8b-b9af-c9933335df40
DTSTAMP:20260421T092359Z
CATEGORIES:Div 3 Herrar SSSV
CLASS:PUBLIC
DESCRIPTION:
DTSTART:20260315T150000Z
DTEND:20260315T150000Z
GEO:00;0
LOCATION:BTK Scania
ORGANIZER:
SEQUENCE:1
SUMMARY:Trelleborgs BTK: B - IF Ale: B
TRANSP:OPAQUE
URL:http://www.trelleborgsbtk.se/index.php/innehall/kalender-seriespel/38-t
 relleborgs-btk-b-if-ale-b/2026-03-15-15-00
END:VEVENT
END:VCALENDAR
