BEGIN:VCALENDAR
VERSION:2.0
PRODID:-//Trelleborgs BTK//NONSGML kigkonsult.se iCalcreator 2.30.10//
CALSCALE:GREGORIAN
METHOD:PUBLISH
UID:0dc3dd1e-c134-490d-832b-876473110221
X-WR-CALNAME:iCagenda
X-WR-CALDESC:Event Management Extension for Joomla!
X-WR-RELCALID:3E26604A-50F4-4449-8B3E-E4F4932D05B5
X-WR-TIMEZONE:UTC
BEGIN:VTIMEZONE
TZID:UTC
END:VTIMEZONE
BEGIN:VEVENT
UID:4ddec990-d63a-47d4-b6ec-aced500fb918
DTSTAMP:20260421T111132Z
CATEGORIES:Div 3 Herrar SSSV
CLASS:PUBLIC
DESCRIPTION:
DTSTART:20260315T110000Z
DTEND:20260315T110000Z
GEO:+55.386692;+13.156636
LOCATION:Söderslättshallen
ORGANIZER:
SEQUENCE:1
SUMMARY:Trelleborgs BTK: B - Kågeröds BTK: B
TRANSP:OPAQUE
URL:http://www.trelleborgsbtk.se/index.php/innehall/kalender-seriespel/39-t
 relleborgs-btk-b-kageroeds-btk-b/2026-03-15-11-00
END:VEVENT
END:VCALENDAR
