BEGIN:VCALENDAR
VERSION:2.0
PRODID:-//Trelleborgs BTK//NONSGML kigkonsult.se iCalcreator 2.30.10//
CALSCALE:GREGORIAN
METHOD:PUBLISH
UID:c18d76a8-3de6-44eb-affc-f3444be3b779
X-WR-CALNAME:iCagenda
X-WR-CALDESC:Event Management Extension for Joomla!
X-WR-RELCALID:3E26604A-50F4-4449-8B3E-E4F4932D05B5
X-WR-TIMEZONE:UTC
BEGIN:VTIMEZONE
TZID:UTC
END:VTIMEZONE
BEGIN:VEVENT
UID:40eebee0-131a-4272-b79c-a57d532fdfa3
DTSTAMP:20260421T110357Z
CATEGORIES:Div 3 Herrar SSSV
CLASS:PUBLIC
DESCRIPTION:
DTSTART:20260315T150000Z
DTEND:20260315T150000Z
GEO:+55.386692;+13.156636
LOCATION:Söderslättshallen
ORGANIZER:
SEQUENCE:1
SUMMARY:Trelleborgs BTK: B - IFK Lund Bordtennis: C1
TRANSP:OPAQUE
URL:http://www.trelleborgsbtk.se/index.php/innehall/kalender-seriespel/40-t
 relleborgs-btk-b-ifk-lund-bordtennis-c1/2026-03-15-15-00
END:VEVENT
END:VCALENDAR
