BEGIN:VCALENDAR
VERSION:2.0
PRODID:-//Trelleborgs BTK//NONSGML kigkonsult.se iCalcreator 2.30.10//
CALSCALE:GREGORIAN
METHOD:PUBLISH
UID:b570e5a7-97ba-45cf-9a18-d20e76a2a663
X-WR-CALNAME:iCagenda
X-WR-CALDESC:Event Management Extension for Joomla!
X-WR-RELCALID:3E26604A-50F4-4449-8B3E-E4F4932D05B5
X-WR-TIMEZONE:UTC
BEGIN:VTIMEZONE
TZID:UTC
END:VTIMEZONE
BEGIN:VEVENT
UID:1f57d6d8-7a02-40ca-b546-2a571793c822
DTSTAMP:20260421T111154Z
CATEGORIES:Div 6 Södra 2
CLASS:PUBLIC
DESCRIPTION:
DTSTART:20260314T000000Z
DTEND:20260314T000000Z
GEO:+55.703857;+13.178893
LOCATION:Bollhuset
ORGANIZER:
SEQUENCE:1
SUMMARY:IFK Lund F3 - Trelleborgs BTK E
TRANSP:OPAQUE
URL:http://www.trelleborgsbtk.se/index.php/innehall/kalender-seriespel/72-i
 fk-lund-f3-trelleborgs-btk-e/2026-03-14-00-00
END:VEVENT
END:VCALENDAR
