BEGIN:VCALENDAR
VERSION:2.0
PRODID:-//Trelleborgs BTK//NONSGML kigkonsult.se iCalcreator 2.30.10//
CALSCALE:GREGORIAN
METHOD:PUBLISH
UID:86be70a2-f7c9-412b-a748-b391b71e46a3
X-WR-CALNAME:iCagenda
X-WR-CALDESC:Event Management Extension for Joomla!
X-WR-RELCALID:3E26604A-50F4-4449-8B3E-E4F4932D05B5
X-WR-TIMEZONE:UTC
BEGIN:VTIMEZONE
TZID:UTC
END:VTIMEZONE
BEGIN:VEVENT
UID:0259fb6f-fe05-433c-9380-7dbd623dfaa4
DTSTAMP:20260419T151522Z
CATEGORIES:Div 6 Södra 3
CLASS:PUBLIC
DESCRIPTION:
DTSTART:20260315T130000Z
DTEND:20260315T130000Z
GEO:00;0
LOCATION:Borrby Sporthall
ORGANIZER:
SEQUENCE:1
SUMMARY:Trelleborgs BTK F - Skurups BTK C
TRANSP:OPAQUE
URL:http://www.trelleborgsbtk.se/index.php/innehall/kalender-seriespel/81-t
 relleborgs-btk-f-skurups-btk-c/2026-03-15-13-00
END:VEVENT
END:VCALENDAR
